BEGIN:VCALENDAR
VERSION:2.0
PRODID:-//Pictures London//Cinema Listings//EN
CALSCALE:GREGORIAN
METHOD:PUBLISH
X-WR-CALNAME:Pictures London Cinema
BEGIN:VEVENT
UID:de300b2e-c62d-4f67-9cae-4f2983f88b42@pictures.london
DTSTART:20260421T201500Z
DTEND:20260421T220000Z
SUMMARY:The Drama (2026) at Everyman Chelsea
DESCRIPTION:The Drama (2026)\nat Everyman Chelsea\nBook: https://purchase.everymancinema.com/launch/ticketing/83df0d43-a4ea-5fb2-bab8-c9de90132052\nvia Pictures (pictures.london)
LOCATION:Everyman Chelsea\, 279 King's Road\, Chelsea\, SW3 3TD
URL:https://purchase.everymancinema.com/launch/ticketing/83df0d43-a4ea-5fb2-bab8-c9de90132052
STATUS:CONFIRMED
END:VEVENT
END:VCALENDAR