BEGIN:VCALENDAR
VERSION:2.0
PRODID:-//Pictures London//Cinema Listings//EN
CALSCALE:GREGORIAN
METHOD:PUBLISH
X-WR-CALNAME:Pictures London Cinema
BEGIN:VEVENT
UID:de2a8c4a-f637-4a67-8c9c-3ff2463991fb@pictures.london
DTSTART:20260421T113000Z
DTEND:20260421T130800Z
SUMMARY:The Super Mario Galaxy Movie (2026) at Everyman Barnet
DESCRIPTION:The Super Mario Galaxy Movie (2026)\nat Everyman Barnet\nBook: https://purchase.everymancinema.com/launch/ticketing/de848028-149c-515c-af6f-1685cd472db6\nvia Pictures (pictures.london)
LOCATION:Everyman Barnet\, Great North Road\, Barnet\, EN5 5SJ
URL:https://purchase.everymancinema.com/launch/ticketing/de848028-149c-515c-af6f-1685cd472db6
STATUS:CONFIRMED
END:VEVENT
END:VCALENDAR