BEGIN:VCALENDAR
VERSION:2.0
PRODID:-//Pictures London//Cinema Listings//EN
CALSCALE:GREGORIAN
METHOD:PUBLISH
X-WR-CALNAME:Pictures London Cinema
BEGIN:VEVENT
UID:de296724-75ba-44b9-8f4b-346d5d331ca3@pictures.london
DTSTART:20260422T171500Z
DTEND:20260422T190500Z
SUMMARY:The Magic Faraway Tree (2026) at Everyman Crystal Palace
DESCRIPTION:The Magic Faraway Tree (2026)\nat Everyman Crystal Palace\nBook: https://purchase.everymancinema.com/launch/ticketing/38d08d37-1bef-5986-b43d-fd885c1acc42\nvia Pictures (pictures.london)
LOCATION:Everyman Crystal Palace\, 25 Church Road\, Crystal Palace\, SE19 2AE
URL:https://purchase.everymancinema.com/launch/ticketing/38d08d37-1bef-5986-b43d-fd885c1acc42
STATUS:CONFIRMED
END:VEVENT
END:VCALENDAR