BEGIN:VCALENDAR
VERSION:2.0
PRODID:-//Pictures London//Cinema Listings//EN
CALSCALE:GREGORIAN
METHOD:PUBLISH
X-WR-CALNAME:Pictures London Cinema
BEGIN:VEVENT
UID:de109014-e61b-4b78-ac26-c84b023e7423@pictures.london
DTSTART:20260421T182500Z
DTEND:20260421T200100Z
SUMMARY:Surviving Earth (2026) at BFI Southbank
DESCRIPTION:Surviving Earth (2026)\nat BFI Southbank\nFormat: DIGITAL\nBook: https://whatson.bfi.org.uk/Online/default.asp?doWork::WScontent::search=1&BOparam::WScontent::search::article_search_id=25E7EA2E-291F-44F9-8EBC-E560154FDAEB&BOset::WScontent::SearchCriteria::search_criteria=Surviving%20Earth\nvia Pictures (pictures.london)
LOCATION:BFI Southbank\, Belvedere Road\, South Bank\, SE1 8XT
URL:https://whatson.bfi.org.uk/Online/default.asp?doWork::WScontent::search=1&BOparam::WScontent::search::article_search_id=25E7EA2E-291F-44F9-8EBC-E560154FDAEB&BOset::WScontent::SearchCriteria::search_criteria=Surviving%20Earth
STATUS:CONFIRMED
END:VEVENT
END:VCALENDAR