BEGIN:VCALENDAR
VERSION:2.0
PRODID:-//Pictures London//Cinema Listings//EN
CALSCALE:GREGORIAN
METHOD:PUBLISH
X-WR-CALNAME:Pictures London Cinema
BEGIN:VEVENT
UID:de08337b-bcce-4288-8bf3-d2971484424b@pictures.london
DTSTART:20260501T140000Z
DTEND:20260501T155900Z
SUMMARY:The Devil Wears Prada 2 (2026) at Phoenix Cinema
DESCRIPTION:The Devil Wears Prada 2 (2026)\nat Phoenix Cinema\nBook: https://www.phoenixcinema.co.uk/PhoenixCinemaLondon.dll/WhatsOn?f=414735\nvia Pictures (pictures.london)
LOCATION:Phoenix Cinema\, 52 High Road\, East Finchley\, N2 9PJ
URL:https://www.phoenixcinema.co.uk/PhoenixCinemaLondon.dll/WhatsOn?f=414735
STATUS:CONFIRMED
END:VEVENT
END:VCALENDAR