BEGIN:VCALENDAR
VERSION:2.0
PRODID:-//Pictures London//Cinema Listings//EN
CALSCALE:GREGORIAN
METHOD:PUBLISH
X-WR-CALNAME:Pictures London Cinema
BEGIN:VEVENT
UID:ddf69a59-399c-4407-8969-dd3f48cdf863@pictures.london
DTSTART:20260501T133000Z
DTEND:20260501T152900Z
SUMMARY:The Devil Wears Prada 2 (2026) at West Norwood Picturehouse
DESCRIPTION:The Devil Wears Prada 2 (2026)\nat West Norwood Picturehouse\nBook: https://www.picturehouses.com/movie-details/023/HO00017738/the-devil-wears-prada-2\nvia Pictures (pictures.london)
LOCATION:West Norwood Picturehouse\, The Old Library\, 14-16 Knight's Hill\, West Norwood\, SE27 9NX
URL:https://www.picturehouses.com/movie-details/023/HO00017738/the-devil-wears-prada-2
STATUS:CONFIRMED
END:VEVENT
END:VCALENDAR