BEGIN:VCALENDAR
VERSION:2.0
PRODID:-//Pictures London//Cinema Listings//EN
CALSCALE:GREGORIAN
METHOD:PUBLISH
X-WR-CALNAME:Pictures London Cinema
BEGIN:VEVENT
UID:ddaa6790-c450-4502-bfe7-bb5c0d002903@pictures.london
DTSTART:20260421T194500Z
DTEND:20260421T214500Z
SUMMARY:MADAME WANG'S (VHS SCREENING) (1981) at The Nickel
DESCRIPTION:MADAME WANG'S (VHS SCREENING) (1981)\nat The Nickel\nFormat: VHS\nBook: https://book.thenickel.co.uk/screening/306\nvia Pictures (pictures.london)
LOCATION:The Nickel\, 194 Upper Street\, Islington\, N1 1RQ
URL:https://book.thenickel.co.uk/screening/306
STATUS:CONFIRMED
END:VEVENT
END:VCALENDAR