BEGIN:VCALENDAR
VERSION:2.0
PRODID:-//Pictures London//Cinema Listings//EN
CALSCALE:GREGORIAN
METHOD:PUBLISH
X-WR-CALNAME:Pictures London Cinema
BEGIN:VEVENT
UID:dd83d5e2-26f3-4852-a537-041c93b74716@pictures.london
DTSTART:20260421T164500Z
DTEND:20260421T182100Z
SUMMARY:Rebuilding (2025) at Crouch End Picturehouse
DESCRIPTION:Rebuilding (2025)\nat Crouch End Picturehouse\nBook: https://www.picturehouses.com/movie-details/024/HO00017446/rebuilding\nvia Pictures (pictures.london)
LOCATION:Crouch End Picturehouse\, 165 Tottenham Lane\, Crouch End\, N8 8HP
URL:https://www.picturehouses.com/movie-details/024/HO00017446/rebuilding
STATUS:CONFIRMED
END:VEVENT
END:VCALENDAR