BEGIN:VCALENDAR
VERSION:2.0
PRODID:-//Pictures London//Cinema Listings//EN
CALSCALE:GREGORIAN
METHOD:PUBLISH
X-WR-CALNAME:Pictures London Cinema
BEGIN:VEVENT
UID:dd6a91fd-0a6d-4791-8d81-aa7ce2e8ef42@pictures.london
DTSTART:20260421T144500Z
DTEND:20260421T164200Z
SUMMARY:The Stranger (2022) at Curzon Victoria
DESCRIPTION:The Stranger (2022)\nat Curzon Victoria\nBook: https://www.curzon.com/films/the-stranger/HO00006845/\nvia Pictures (pictures.london)
LOCATION:Curzon Victoria\, 58 Victoria Street\, Victoria\, SW1E 5JA
URL:https://www.curzon.com/films/the-stranger/HO00006845/
STATUS:CONFIRMED
END:VEVENT
END:VCALENDAR