BEGIN:VCALENDAR
VERSION:2.0
PRODID:-//Pictures London//Cinema Listings//EN
CALSCALE:GREGORIAN
METHOD:PUBLISH
X-WR-CALNAME:Pictures London Cinema
BEGIN:VEVENT
UID:dd47bd60-66e3-4706-a2ca-3f6abf266834@pictures.london
DTSTART:20260422T133000Z
DTEND:20260422T153700Z
SUMMARY:Michael (2026) at Everyman Canary Wharf
DESCRIPTION:Michael (2026)\nat Everyman Canary Wharf\nBook: https://purchase.everymancinema.com/launch/ticketing/d9413b81-ba18-55de-b937-d2cb8e94a6a7\nvia Pictures (pictures.london)
LOCATION:Everyman Canary Wharf\, Crossrail Place\, Canary Wharf\, E14 5NY
URL:https://purchase.everymancinema.com/launch/ticketing/d9413b81-ba18-55de-b937-d2cb8e94a6a7
STATUS:CONFIRMED
END:VEVENT
END:VCALENDAR