BEGIN:VCALENDAR
VERSION:2.0
PRODID:-//Pictures London//Cinema Listings//EN
CALSCALE:GREGORIAN
METHOD:PUBLISH
X-WR-CALNAME:Pictures London Cinema
BEGIN:VEVENT
UID:dce07393-3475-42d8-9d74-4aa6d4f8132f@pictures.london
DTSTART:20260501T130000Z
DTEND:20260501T145900Z
SUMMARY:The Devil Wears Prada 2 (2026) at Everyman Maida Vale
DESCRIPTION:The Devil Wears Prada 2 (2026)\nat Everyman Maida Vale\nBook: https://purchase.everymancinema.com/launch/ticketing/56ceda39-dd5e-5e1c-9852-64d47830d62b\nvia Pictures (pictures.london)
LOCATION:Everyman Maida Vale\, 215 Sutherland Avenue\, Maida Vale\, W9 1TT
URL:https://purchase.everymancinema.com/launch/ticketing/56ceda39-dd5e-5e1c-9852-64d47830d62b
STATUS:CONFIRMED
END:VEVENT
END:VCALENDAR