BEGIN:VCALENDAR
VERSION:2.0
PRODID:-//Pictures London//Cinema Listings//EN
CALSCALE:GREGORIAN
METHOD:PUBLISH
X-WR-CALNAME:Pictures London Cinema
BEGIN:VEVENT
UID:dcd785fd-1953-4143-b66d-2e47ec299690@pictures.london
DTSTART:20260424T194000Z
DTEND:20260424T213200Z
SUMMARY:Mother Mary (2026) at Curzon Mayfair
DESCRIPTION:Mother Mary (2026)\nat Curzon Mayfair\nBook: https://www.curzon.com/films/mother-mary/HO00006899/\nvia Pictures (pictures.london)
LOCATION:Curzon Mayfair\, 38 Curzon Street\, Mayfair\, W1J 7SH
URL:https://www.curzon.com/films/mother-mary/HO00006899/
STATUS:CONFIRMED
END:VEVENT
END:VCALENDAR