BEGIN:VCALENDAR
VERSION:2.0
PRODID:-//Pictures London//Cinema Listings//EN
CALSCALE:GREGORIAN
METHOD:PUBLISH
X-WR-CALNAME:Pictures London Cinema
BEGIN:VEVENT
UID:dc9cb11c-3ced-461d-aa94-e5aaddc576a8@pictures.london
DTSTART:20260425T103500Z
DTEND:20260425T122900Z
SUMMARY:Klute (1971) at Prince Charles Cinema
DESCRIPTION:Klute (1971)\nat Prince Charles Cinema\nFormat: 35MM\nBook: https://princecharlescinema.com/prince-charles-cinema/booknow/31626244\nvia Pictures (pictures.london)
LOCATION:Prince Charles Cinema\, 7 Leicester Place\, Leicester Square\, WC2H 7BY
URL:https://princecharlescinema.com/prince-charles-cinema/booknow/31626244
STATUS:CONFIRMED
END:VEVENT
END:VCALENDAR