BEGIN:VCALENDAR
VERSION:2.0
PRODID:-//Pictures London//Cinema Listings//EN
CALSCALE:GREGORIAN
METHOD:PUBLISH
X-WR-CALNAME:Pictures London Cinema
BEGIN:VEVENT
UID:dc791daa-4049-4dd4-b1a7-3e1366127700@pictures.london
DTSTART:20260422T201500Z
DTEND:20260422T223400Z
SUMMARY:8½ (1963) at Close-Up Cinema
DESCRIPTION:8½ (1963)\nat Close-Up Cinema\nBook: https://www.closeupfilmcentre.com/film_programmes/2026/histoire-s-du-cinema/8-1-2/\nvia Pictures (pictures.london)
LOCATION:Close-Up Cinema\, 97 Sclater Street\, Shoreditch\, E1 6HR
URL:https://www.closeupfilmcentre.com/film_programmes/2026/histoire-s-du-cinema/8-1-2/
STATUS:CONFIRMED
END:VEVENT
END:VCALENDAR