BEGIN:VCALENDAR
VERSION:2.0
PRODID:-//Pictures London//Cinema Listings//EN
CALSCALE:GREGORIAN
METHOD:PUBLISH
X-WR-CALNAME:Pictures London Cinema
BEGIN:VEVENT
UID:dbdb4f86-2d17-42ec-990f-519137da9e03@pictures.london
DTSTART:20260612T223000Z
DTEND:20260613T003000Z
SUMMARY:RIO FOREVER / NEVER EVER: GEMINI SEASON at Rio Cinema
DESCRIPTION:RIO FOREVER / NEVER EVER: GEMINI SEASON\nat Rio Cinema\nBook: https://riocinema.org.uk/Rio.dll/WhatsOn?f=2403027\nvia Pictures (pictures.london)
LOCATION:Rio Cinema\, 107 Kingsland High Street\, Dalston\, E8 2PB
URL:https://riocinema.org.uk/Rio.dll/WhatsOn?f=2403027
STATUS:CONFIRMED
END:VEVENT
END:VCALENDAR