BEGIN:VCALENDAR
VERSION:2.0
PRODID:-//Pictures London//Cinema Listings//EN
CALSCALE:GREGORIAN
METHOD:PUBLISH
X-WR-CALNAME:Pictures London Cinema
BEGIN:VEVENT
UID:dbb1da6f-07e9-4a69-91b6-98df15bd1147@pictures.london
DTSTART:20260421T175000Z
DTEND:20260421T193500Z
SUMMARY:The Drama (2026) at Curzon Aldgate
DESCRIPTION:The Drama (2026)\nat Curzon Aldgate\nBook: https://www.curzon.com/films/the-drama/HO00006892/\nvia Pictures (pictures.london)
LOCATION:Curzon Aldgate\, 2 Whitechapel High Street\, Aldgate\, E1 8FA
URL:https://www.curzon.com/films/the-drama/HO00006892/
STATUS:CONFIRMED
END:VEVENT
END:VCALENDAR