BEGIN:VCALENDAR
VERSION:2.0
PRODID:-//Pictures London//Cinema Listings//EN
CALSCALE:GREGORIAN
METHOD:PUBLISH
X-WR-CALNAME:Pictures London Cinema
BEGIN:VEVENT
UID:dacc0d6d-0de4-49f7-9b5b-8ecafc3cf97b@pictures.london
DTSTART:20260421T194000Z
DTEND:20260421T214800Z
SUMMARY:Kiss of the Spider Woman (2025) at Curzon Kingston
DESCRIPTION:Kiss of the Spider Woman (2025)\nat Curzon Kingston\nBook: https://www.curzon.com/films/kiss-of-the-spider-woman/HO00006968/\nvia Pictures (pictures.london)
LOCATION:Curzon Kingston\, Richmond Road\, Kingston\, KT2 5BW
URL:https://www.curzon.com/films/kiss-of-the-spider-woman/HO00006968/
STATUS:CONFIRMED
END:VEVENT
END:VCALENDAR