BEGIN:VCALENDAR
VERSION:2.0
PRODID:-//Pictures London//Cinema Listings//EN
CALSCALE:GREGORIAN
METHOD:PUBLISH
X-WR-CALNAME:Pictures London Cinema
BEGIN:VEVENT
UID:da97269b-2a88-405d-a2c8-d9846dc2deab@pictures.london
DTSTART:20260422T160000Z
DTEND:20260422T180700Z
SUMMARY:Michael (2026) at Everyman King's Cross
DESCRIPTION:Michael (2026)\nat Everyman King's Cross\nBook: https://purchase.everymancinema.com/launch/ticketing/a10659c8-120e-5b28-8fbd-962b5ab439fb\nvia Pictures (pictures.london)
LOCATION:Everyman King's Cross\, Coal Drops Yard\, King's Cross\, N1C 4AG
URL:https://purchase.everymancinema.com/launch/ticketing/a10659c8-120e-5b28-8fbd-962b5ab439fb
STATUS:CONFIRMED
END:VEVENT
END:VCALENDAR