BEGIN:VCALENDAR
VERSION:2.0
PRODID:-//Pictures London//Cinema Listings//EN
CALSCALE:GREGORIAN
METHOD:PUBLISH
X-WR-CALNAME:Pictures London Cinema
BEGIN:VEVENT
UID:da6694ba-9985-49b4-91b9-4ffdfd6d752a@pictures.london
DTSTART:20260421T171000Z
DTEND:20260421T185500Z
SUMMARY:The Drama (2026) at Rio Cinema
DESCRIPTION:The Drama (2026)\nat Rio Cinema\nBook: https://riocinema.org.uk/Rio.dll/WhatsOn?f=2428781\nvia Pictures (pictures.london)
LOCATION:Rio Cinema\, 107 Kingsland High Street\, Dalston\, E8 2PB
URL:https://riocinema.org.uk/Rio.dll/WhatsOn?f=2428781
STATUS:CONFIRMED
END:VEVENT
END:VCALENDAR