BEGIN:VCALENDAR
VERSION:2.0
PRODID:-//Pictures London//Cinema Listings//EN
CALSCALE:GREGORIAN
METHOD:PUBLISH
X-WR-CALNAME:Pictures London Cinema
BEGIN:VEVENT
UID:da46e7cc-6fb4-4092-a552-49ef519836de@pictures.london
DTSTART:20260501T173000Z
DTEND:20260501T192900Z
SUMMARY:The Devil Wears Prada 2 (2026) at Finsbury Park Picturehouse
DESCRIPTION:The Devil Wears Prada 2 (2026)\nat Finsbury Park Picturehouse\nBook: https://www.picturehouses.com/movie-details/029/HO00017738/the-devil-wears-prada-2\nvia Pictures (pictures.london)
LOCATION:Finsbury Park Picturehouse\, Unit B\, Finsbury Park Station\, Finsbury Park\, N4 3FP
URL:https://www.picturehouses.com/movie-details/029/HO00017738/the-devil-wears-prada-2
STATUS:CONFIRMED
END:VEVENT
END:VCALENDAR