BEGIN:VCALENDAR
VERSION:2.0
PRODID:-//Pictures London//Cinema Listings//EN
CALSCALE:GREGORIAN
METHOD:PUBLISH
X-WR-CALNAME:Pictures London Cinema
BEGIN:VEVENT
UID:d9ef85ac-fb02-455a-b541-b1e46437573e@pictures.london
DTSTART:20260424T200000Z
DTEND:20260424T213900Z
SUMMARY:The Room (2019) at Prince Charles Cinema
DESCRIPTION:The Room (2019)\nat Prince Charles Cinema\nBook: https://princecharlescinema.com/prince-charles-cinema/booknow/31624062\nvia Pictures (pictures.london)
LOCATION:Prince Charles Cinema\, 7 Leicester Place\, Leicester Square\, WC2H 7BY
URL:https://princecharlescinema.com/prince-charles-cinema/booknow/31624062
STATUS:CONFIRMED
END:VEVENT
END:VCALENDAR