BEGIN:VCALENDAR
VERSION:2.0
PRODID:-//Pictures London//Cinema Listings//EN
CALSCALE:GREGORIAN
METHOD:PUBLISH
X-WR-CALNAME:Pictures London Cinema
BEGIN:VEVENT
UID:d9dc7f6b-a325-4c03-9829-0ab7694833fc@pictures.london
DTSTART:20260501T133000Z
DTEND:20260501T152900Z
SUMMARY:The Devil Wears Prada 2 (2026) at Everyman Hampstead
DESCRIPTION:The Devil Wears Prada 2 (2026)\nat Everyman Hampstead\nBook: https://purchase.everymancinema.com/launch/ticketing/0c88f12a-5cd9-500c-97b0-e61bcbeb8be3\nvia Pictures (pictures.london)
LOCATION:Everyman Hampstead\, 5 Holly Bush Vale\, Hampstead\, NW3 1QE
URL:https://purchase.everymancinema.com/launch/ticketing/0c88f12a-5cd9-500c-97b0-e61bcbeb8be3
STATUS:CONFIRMED
END:VEVENT
END:VCALENDAR