BEGIN:VCALENDAR
VERSION:2.0
PRODID:-//Pictures London//Cinema Listings//EN
CALSCALE:GREGORIAN
METHOD:PUBLISH
X-WR-CALNAME:Pictures London Cinema
BEGIN:VEVENT
UID:d88fe41e-6c3b-4e72-93be-f6d0a0bcf399@pictures.london
DTSTART:20260422T133000Z
DTEND:20260422T152000Z
SUMMARY:The Magic Faraway Tree (2026) at Ealing Picturehouse
DESCRIPTION:The Magic Faraway Tree (2026)\nat Ealing Picturehouse\nBook: https://www.picturehouses.com/movie-details/031/HO00017688/the-magic-faraway-tree\nvia Pictures (pictures.london)
LOCATION:Ealing Picturehouse\, The Ealing Cinema\, Ealing Green\, Ealing\, W5 2PA
URL:https://www.picturehouses.com/movie-details/031/HO00017688/the-magic-faraway-tree
STATUS:CONFIRMED
END:VEVENT
END:VCALENDAR