BEGIN:VCALENDAR
VERSION:2.0
PRODID:-//Pictures London//Cinema Listings//EN
CALSCALE:GREGORIAN
METHOD:PUBLISH
X-WR-CALNAME:Pictures London Cinema
BEGIN:VEVENT
UID:d72ebd2d-7268-49ea-85e3-2bb3c019e258@pictures.london
DTSTART:20260421T201500Z
DTEND:20260421T220000Z
SUMMARY:The Drama (2026) at Curzon Soho
DESCRIPTION:The Drama (2026)\nat Curzon Soho\nBook: https://www.curzon.com/films/the-drama/HO00006892/\nvia Pictures (pictures.london)
LOCATION:Curzon Soho\, 99 Shaftesbury Avenue\, Soho\, W1D 5DY
URL:https://www.curzon.com/films/the-drama/HO00006892/
STATUS:CONFIRMED
END:VEVENT
END:VCALENDAR