BEGIN:VCALENDAR
VERSION:2.0
PRODID:-//Pictures London//Cinema Listings//EN
CALSCALE:GREGORIAN
METHOD:PUBLISH
X-WR-CALNAME:Pictures London Cinema
BEGIN:VEVENT
UID:d671b368-3611-462c-ad7c-76d9cc87035f@pictures.london
DTSTART:20260425T173000Z
DTEND:20260425T190700Z
SUMMARY:After Hours (1985) at Picturehouse Central
DESCRIPTION:After Hours (1985)\nat Picturehouse Central\nFormat: DCP_4K\nBook: https://www.picturehouses.com/movie-details/022/HO00014433/after-hours-4k-restoration\nvia Pictures (pictures.london)
LOCATION:Picturehouse Central\, Corner of Great Windmill Street & Shaftesbury Avenue\, West End\, W1D 7DH
URL:https://www.picturehouses.com/movie-details/022/HO00014433/after-hours-4k-restoration
STATUS:CONFIRMED
END:VEVENT
END:VCALENDAR