BEGIN:VCALENDAR
VERSION:2.0
PRODID:-//Pictures London//Cinema Listings//EN
CALSCALE:GREGORIAN
METHOD:PUBLISH
X-WR-CALNAME:Pictures London Cinema
BEGIN:VEVENT
UID:d6597aee-51df-4ec1-b068-8bb8b4023a82@pictures.london
DTSTART:20260422T190000Z
DTEND:20260422T210700Z
SUMMARY:Michael (2026) at Everyman Barnet
DESCRIPTION:Michael (2026)\nat Everyman Barnet\nBook: https://purchase.everymancinema.com/launch/ticketing/3d7b9878-1f4d-55ef-84a0-f76f67111176\nvia Pictures (pictures.london)
LOCATION:Everyman Barnet\, Great North Road\, Barnet\, EN5 5SJ
URL:https://purchase.everymancinema.com/launch/ticketing/3d7b9878-1f4d-55ef-84a0-f76f67111176
STATUS:CONFIRMED
END:VEVENT
END:VCALENDAR