BEGIN:VCALENDAR
VERSION:2.0
PRODID:-//Pictures London//Cinema Listings//EN
CALSCALE:GREGORIAN
METHOD:PUBLISH
X-WR-CALNAME:Pictures London Cinema
BEGIN:VEVENT
UID:d6489b68-55ca-45d4-8d06-15b193dcdb06@pictures.london
DTSTART:20260423T171000Z
DTEND:20260423T185200Z
SUMMARY:Memories (2007) at Prince Charles Cinema
DESCRIPTION:Memories (2007)\nat Prince Charles Cinema\nFormat: DCP_4K\nEvent: premiere\nBook: https://princecharlescinema.com/prince-charles-cinema/booknow/31625582\nvia Pictures (pictures.london)
LOCATION:Prince Charles Cinema\, 7 Leicester Place\, Leicester Square\, WC2H 7BY
URL:https://princecharlescinema.com/prince-charles-cinema/booknow/31625582
STATUS:CONFIRMED
END:VEVENT
END:VCALENDAR