BEGIN:VCALENDAR
VERSION:2.0
PRODID:-//Pictures London//Cinema Listings//EN
CALSCALE:GREGORIAN
METHOD:PUBLISH
X-WR-CALNAME:Pictures London Cinema
BEGIN:VEVENT
UID:d62a34fd-2ea4-42e8-b58a-4a084b8a17e4@pictures.london
DTSTART:20260429T110000Z
DTEND:20260429T130400Z
SUMMARY:Perfect Days (2023) at Prince Charles Cinema
DESCRIPTION:Perfect Days (2023)\nat Prince Charles Cinema\nBook: https://princecharlescinema.com/prince-charles-cinema/booknow/31625644\nvia Pictures (pictures.london)
LOCATION:Prince Charles Cinema\, 7 Leicester Place\, Leicester Square\, WC2H 7BY
URL:https://princecharlescinema.com/prince-charles-cinema/booknow/31625644
STATUS:CONFIRMED
END:VEVENT
END:VCALENDAR