BEGIN:VCALENDAR
VERSION:2.0
PRODID:-//Pictures London//Cinema Listings//EN
CALSCALE:GREGORIAN
METHOD:PUBLISH
X-WR-CALNAME:Pictures London Cinema
BEGIN:VEVENT
UID:d5162dc4-1ed9-46b9-9ae6-3dbc1bcaa625@pictures.london
DTSTART:20260422T130000Z
DTEND:20260422T150700Z
SUMMARY:Michael (2026) at Everyman Barnet
DESCRIPTION:Michael (2026)\nat Everyman Barnet\nBook: https://purchase.everymancinema.com/launch/ticketing/e4a7b875-8355-51aa-8cf2-bb7064b89072\nvia Pictures (pictures.london)
LOCATION:Everyman Barnet\, Great North Road\, Barnet\, EN5 5SJ
URL:https://purchase.everymancinema.com/launch/ticketing/e4a7b875-8355-51aa-8cf2-bb7064b89072
STATUS:CONFIRMED
END:VEVENT
END:VCALENDAR