BEGIN:VCALENDAR
VERSION:2.0
PRODID:-//Pictures London//Cinema Listings//EN
CALSCALE:GREGORIAN
METHOD:PUBLISH
X-WR-CALNAME:Pictures London Cinema
BEGIN:VEVENT
UID:d4f364a0-e85b-4c5c-b1be-ad2c67ec8b46@pictures.london
DTSTART:20260531T110000Z
DTEND:20260531T130000Z
SUMMARY:Hackney History Festival presents: EXPLODERS at Rio Cinema
DESCRIPTION:Hackney History Festival presents: EXPLODERS\nat Rio Cinema\nBook: https://riocinema.org.uk/Rio.dll/WhatsOn?f=2400638\nvia Pictures (pictures.london)
LOCATION:Rio Cinema\, 107 Kingsland High Street\, Dalston\, E8 2PB
URL:https://riocinema.org.uk/Rio.dll/WhatsOn?f=2400638
STATUS:CONFIRMED
END:VEVENT
END:VCALENDAR