BEGIN:VCALENDAR
VERSION:2.0
PRODID:-//Pictures London//Cinema Listings//EN
CALSCALE:GREGORIAN
METHOD:PUBLISH
X-WR-CALNAME:Pictures London Cinema
BEGIN:VEVENT
UID:d4bef462-3544-41c6-a21f-b3be6ceb8739@pictures.london
DTSTART:20260421T204500Z
DTEND:20260421T224500Z
SUMMARY:Amelie Le Fabuleux destin d’Amélie Poulain p9 (2026) at BFI Southbank
DESCRIPTION:Amelie Le Fabuleux destin d’Amélie Poulain p9 (2026)\nat BFI Southbank\nFormat: DIGITAL\nBook: https://whatson.bfi.org.uk/Online/default.asp?doWork::WScontent::search=1&BOparam::WScontent::search::article_search_id=25E7EA2E-291F-44F9-8EBC-E560154FDAEB&BOset::WScontent::SearchCriteria::search_criteria=Amelie%20Le%20Fabuleux%20destin%20d%E2%80%99Am%C3%A9lie%20Poulain%20p9\nvia Pictures (pictures.london)
LOCATION:BFI Southbank\, Belvedere Road\, South Bank\, SE1 8XT
URL:https://whatson.bfi.org.uk/Online/default.asp?doWork::WScontent::search=1&BOparam::WScontent::search::article_search_id=25E7EA2E-291F-44F9-8EBC-E560154FDAEB&BOset::WScontent::SearchCriteria::search_criteria=Amelie%20Le%20Fabuleux%20destin%20d%E2%80%99Am%C3%A9lie%20Poulain%20p9
STATUS:CONFIRMED
END:VEVENT
END:VCALENDAR