BEGIN:VCALENDAR
VERSION:2.0
PRODID:-//Pictures London//Cinema Listings//EN
CALSCALE:GREGORIAN
METHOD:PUBLISH
X-WR-CALNAME:Pictures London Cinema
BEGIN:VEVENT
UID:d47d8c4a-59cf-4504-9218-9e71d0af5043@pictures.london
DTSTART:20260422T123000Z
DTEND:20260422T145000Z
SUMMARY:All My Sons (2019) at Olympic Studios
DESCRIPTION:All My Sons (2019)\nat Olympic Studios\nBook: https://web1.empire.mycloudcinema.com/#/book/54839\nvia Pictures (pictures.london)
LOCATION:Olympic Studios\, 117-123 Church Road\, Barnes\, SW13 9HL
URL:https://web1.empire.mycloudcinema.com/#/book/54839
STATUS:CONFIRMED
END:VEVENT
END:VCALENDAR