BEGIN:VCALENDAR
VERSION:2.0
PRODID:-//Pictures London//Cinema Listings//EN
CALSCALE:GREGORIAN
METHOD:PUBLISH
X-WR-CALNAME:Pictures London Cinema
BEGIN:VEVENT
UID:d4225bfd-cfca-4601-9d02-96957dcb3944@pictures.london
DTSTART:20260422T143000Z
DTEND:20260422T163700Z
SUMMARY:Michael (2026) at Screen on the Green
DESCRIPTION:Michael (2026)\nat Screen on the Green\nBook: https://purchase.everymancinema.com/launch/ticketing/867f7e3e-970b-50ea-bf47-69518b48d359\nvia Pictures (pictures.london)
LOCATION:Screen on the Green\, 83 Upper Street\, Islington\, N1 0PH
URL:https://purchase.everymancinema.com/launch/ticketing/867f7e3e-970b-50ea-bf47-69518b48d359
STATUS:CONFIRMED
END:VEVENT
END:VCALENDAR