BEGIN:VCALENDAR
VERSION:2.0
PRODID:-//Pictures London//Cinema Listings//EN
CALSCALE:GREGORIAN
METHOD:PUBLISH
X-WR-CALNAME:Pictures London Cinema
BEGIN:VEVENT
UID:d3fa9abe-3663-4b41-b2d5-5b83abab8bd9@pictures.london
DTSTART:20260421T160000Z
DTEND:20260421T173800Z
SUMMARY:The Super Mario Galaxy Movie (2026) at Hackney Picturehouse
DESCRIPTION:The Super Mario Galaxy Movie (2026)\nat Hackney Picturehouse\nBook: https://www.picturehouses.com/movie-details/010/HO00017733/the-super-mario-galaxy-movie\nvia Pictures (pictures.london)
LOCATION:Hackney Picturehouse\, 270 Mare Street\, Hackney\, E8 1EJ
URL:https://www.picturehouses.com/movie-details/010/HO00017733/the-super-mario-galaxy-movie
STATUS:CONFIRMED
END:VEVENT
END:VCALENDAR