BEGIN:VCALENDAR
VERSION:2.0
PRODID:-//Pictures London//Cinema Listings//EN
CALSCALE:GREGORIAN
METHOD:PUBLISH
X-WR-CALNAME:Pictures London Cinema
BEGIN:VEVENT
UID:d3f3efbb-a29a-4de8-af0b-cdcb05c99e4b@pictures.london
DTSTART:20260501T174500Z
DTEND:20260501T194400Z
SUMMARY:The Devil Wears Prada 2 (2026) at The Lexi Cinema
DESCRIPTION:The Devil Wears Prada 2 (2026)\nat The Lexi Cinema\nBook: https://thelexicinema.co.uk/TheLexiCinema.dll/Booking?Booking=TSelectItems.waSelectItemsPrompt.TcsWebMenuItem_0.TcsWebTab_0.TcsPerformance_9705482.TcsSection_5209705\nvia Pictures (pictures.london)
LOCATION:The Lexi Cinema\, 194B Chamberlayne Road\, Kensal Rise\, NW10 3JU
URL:https://thelexicinema.co.uk/TheLexiCinema.dll/Booking?Booking=TSelectItems.waSelectItemsPrompt.TcsWebMenuItem_0.TcsWebTab_0.TcsPerformance_9705482.TcsSection_5209705
STATUS:CONFIRMED
END:VEVENT
END:VCALENDAR