BEGIN:VCALENDAR
VERSION:2.0
PRODID:-//Pictures London//Cinema Listings//EN
CALSCALE:GREGORIAN
METHOD:PUBLISH
X-WR-CALNAME:Pictures London Cinema
BEGIN:VEVENT
UID:d386556b-d8cf-4184-8dd4-cac635eb4683@pictures.london
DTSTART:20260421T181000Z
DTEND:20260421T193600Z
SUMMARY:The Blue Trail (2025) at The Lexi Cinema
DESCRIPTION:The Blue Trail (2025)\nat The Lexi Cinema\nBook: https://thelexicinema.co.uk/TheLexiCinema.dll/Booking?Booking=TSelectItems.waSelectItemsPrompt.TcsWebMenuItem_0.TcsWebTab_0.TcsPerformance_9631668.TcsSection_5209705\nvia Pictures (pictures.london)
LOCATION:The Lexi Cinema\, 194B Chamberlayne Road\, Kensal Rise\, NW10 3JU
URL:https://thelexicinema.co.uk/TheLexiCinema.dll/Booking?Booking=TSelectItems.waSelectItemsPrompt.TcsWebMenuItem_0.TcsWebTab_0.TcsPerformance_9631668.TcsSection_5209705
STATUS:CONFIRMED
END:VEVENT
END:VCALENDAR