BEGIN:VCALENDAR
VERSION:2.0
PRODID:-//Pictures London//Cinema Listings//EN
CALSCALE:GREGORIAN
METHOD:PUBLISH
X-WR-CALNAME:Pictures London Cinema
BEGIN:VEVENT
UID:d2033a32-fd45-426e-9743-624f758bcf49@pictures.london
DTSTART:20260421T153000Z
DTEND:20260421T170600Z
SUMMARY:Rebuilding (2025) at Finsbury Park Picturehouse
DESCRIPTION:Rebuilding (2025)\nat Finsbury Park Picturehouse\nBook: https://www.picturehouses.com/movie-details/029/HO00017446/rebuilding\nvia Pictures (pictures.london)
LOCATION:Finsbury Park Picturehouse\, Unit B\, Finsbury Park Station\, Finsbury Park\, N4 3FP
URL:https://www.picturehouses.com/movie-details/029/HO00017446/rebuilding
STATUS:CONFIRMED
END:VEVENT
END:VCALENDAR