BEGIN:VCALENDAR
VERSION:2.0
PRODID:-//Pictures London//Cinema Listings//EN
CALSCALE:GREGORIAN
METHOD:PUBLISH
X-WR-CALNAME:Pictures London Cinema
BEGIN:VEVENT
UID:d15aa636-6b18-4b8a-8151-5158812f3ded@pictures.london
DTSTART:20260501T110000Z
DTEND:20260501T125900Z
SUMMARY:The Devil Wears Prada 2 (2026) at Curzon Hoxton
DESCRIPTION:The Devil Wears Prada 2 (2026)\nat Curzon Hoxton\nBook: https://www.curzon.com/films/the-devil-wears-prada-2/HO00006909/\nvia Pictures (pictures.london)
LOCATION:Curzon Hoxton\, 58 Pitfield Street\, Hoxton\, N1 6NU
URL:https://www.curzon.com/films/the-devil-wears-prada-2/HO00006909/
STATUS:CONFIRMED
END:VEVENT
END:VCALENDAR