BEGIN:VCALENDAR
VERSION:2.0
PRODID:-//Pictures London//Cinema Listings//EN
CALSCALE:GREGORIAN
METHOD:PUBLISH
X-WR-CALNAME:Pictures London Cinema
BEGIN:VEVENT
UID:d0b525c0-43fc-4946-bb76-eea5f2e3c03d@pictures.london
DTSTART:20260428T194500Z
DTEND:20260428T214500Z
SUMMARY:Q: THE WINGED SERPENT (1982) at The Nickel
DESCRIPTION:Q: THE WINGED SERPENT (1982)\nat The Nickel\nFormat: DIGITAL\nBook: https://book.thenickel.co.uk/screening/291\nvia Pictures (pictures.london)
LOCATION:The Nickel\, 194 Upper Street\, Islington\, N1 1RQ
URL:https://book.thenickel.co.uk/screening/291
STATUS:CONFIRMED
END:VEVENT
END:VCALENDAR