BEGIN:VCALENDAR
VERSION:2.0
PRODID:-//Pictures London//Cinema Listings//EN
CALSCALE:GREGORIAN
METHOD:PUBLISH
X-WR-CALNAME:Pictures London Cinema
BEGIN:VEVENT
UID:d04023d7-61f9-494f-8a0e-ccd30232c228@pictures.london
DTSTART:20260424T191500Z
DTEND:20260424T205400Z
SUMMARY:Alphaville (1965) at Close-Up Film Centre
DESCRIPTION:Alphaville (1965)\nat Close-Up Film Centre\nBook: https://www.ticketsource.co.uk/close-up-cinema/e-bgeazl\nvia Pictures (pictures.london)
LOCATION:Close-Up Film Centre\, 97 Sclater Street\, Shoreditch\, E1 6HR
URL:https://www.ticketsource.co.uk/close-up-cinema/e-bgeazl
STATUS:CONFIRMED
END:VEVENT
END:VCALENDAR