BEGIN:VCALENDAR
VERSION:2.0
PRODID:-//Pictures London//Cinema Listings//EN
CALSCALE:GREGORIAN
METHOD:PUBLISH
X-WR-CALNAME:Pictures London Cinema
BEGIN:VEVENT
UID:d01e1556-9d84-4063-9c43-d4430dc8b22d@pictures.london
DTSTART:20260422T161500Z
DTEND:20260422T181500Z
SUMMARY:Amélie (25th Anniversary Re-release) (2026) at Garden Cinema
DESCRIPTION:Amélie (25th Anniversary Re-release) (2026)\nat Garden Cinema\nEvent: anniversary\nBook: https://bookings.thegardencinema.co.uk/TheGardenCinema.dll/TSelectItems.waSelectItemsPrompt.TcsWebMenuItem_0.TcsWebTab_0.TcsPerformance_5409914.TcsSection_3060731\nvia Pictures (pictures.london)
LOCATION:Garden Cinema\, 39-41 Parker Street\, Covent Garden\, WC2B 5PQ
URL:https://bookings.thegardencinema.co.uk/TheGardenCinema.dll/TSelectItems.waSelectItemsPrompt.TcsWebMenuItem_0.TcsWebTab_0.TcsPerformance_5409914.TcsSection_3060731
STATUS:CONFIRMED
END:VEVENT
END:VCALENDAR