BEGIN:VCALENDAR
VERSION:2.0
PRODID:-//Pictures London//Cinema Listings//EN
CALSCALE:GREGORIAN
METHOD:PUBLISH
X-WR-CALNAME:Pictures London Cinema
BEGIN:VEVENT
UID:cff02daf-4749-4be3-87b4-3e2d2d86702f@pictures.london
DTSTART:20260501T160000Z
DTEND:20260501T175900Z
SUMMARY:The Devil Wears Prada 2 (2026) at Everyman Barnet
DESCRIPTION:The Devil Wears Prada 2 (2026)\nat Everyman Barnet\nBook: https://purchase.everymancinema.com/launch/ticketing/1e06d92f-ffcc-5ae5-8a8b-6a51d0c06601\nvia Pictures (pictures.london)
LOCATION:Everyman Barnet\, Great North Road\, Barnet\, EN5 5SJ
URL:https://purchase.everymancinema.com/launch/ticketing/1e06d92f-ffcc-5ae5-8a8b-6a51d0c06601
STATUS:CONFIRMED
END:VEVENT
END:VCALENDAR