BEGIN:VCALENDAR
VERSION:2.0
PRODID:-//Pictures London//Cinema Listings//EN
CALSCALE:GREGORIAN
METHOD:PUBLISH
X-WR-CALNAME:Pictures London Cinema
BEGIN:VEVENT
UID:cfe2c558-042b-4d0d-aaaf-7f06f7b0fb20@pictures.london
DTSTART:20260421T152000Z
DTEND:20260421T165700Z
SUMMARY:Bridget Jones's Diary (2001) at Curzon Kingston
DESCRIPTION:Bridget Jones's Diary (2001)\nat Curzon Kingston\nEvent: anniversary\nBook: https://www.curzon.com/films/bridget-jones-s-diary-25th-anniversary/HO00006971/\nvia Pictures (pictures.london)
LOCATION:Curzon Kingston\, Richmond Road\, Kingston\, KT2 5BW
URL:https://www.curzon.com/films/bridget-jones-s-diary-25th-anniversary/HO00006971/
STATUS:CONFIRMED
END:VEVENT
END:VCALENDAR