BEGIN:VCALENDAR
VERSION:2.0
PRODID:-//Pictures London//Cinema Listings//EN
CALSCALE:GREGORIAN
METHOD:PUBLISH
X-WR-CALNAME:Pictures London Cinema
BEGIN:VEVENT
UID:cf847266-6838-428e-8dcc-53e1fccce99d@pictures.london
DTSTART:20260424T130000Z
DTEND:20260424T144400Z
SUMMARY:Manhattan Murder Mystery (35mm) (1993) at David Lean Cinema
DESCRIPTION:Manhattan Murder Mystery (35mm) (1993)\nat David Lean Cinema\nFormat: 35MM\nBook: https://tinyurl.com/3rt2w3e6\nvia Pictures (pictures.london)
LOCATION:David Lean Cinema\, The Clocktower\, Croydon Airport\, Croydon\, CR0 0XZ
URL:https://tinyurl.com/3rt2w3e6
STATUS:CONFIRMED
END:VEVENT
END:VCALENDAR