BEGIN:VCALENDAR
VERSION:2.0
PRODID:-//Pictures London//Cinema Listings//EN
CALSCALE:GREGORIAN
METHOD:PUBLISH
X-WR-CALNAME:Pictures London Cinema
BEGIN:VEVENT
UID:cf5907d7-1d0d-480a-a076-4a12afc19287@pictures.london
DTSTART:20260422T181500Z
DTEND:20260422T200800Z
SUMMARY:The Seduction of Mimi (1972) at The Lexi Cinema
DESCRIPTION:The Seduction of Mimi (1972)\nat The Lexi Cinema\nBook: https://thelexicinema.co.uk/TheLexiCinema.dll/Booking?Booking=TSelectItems.waSelectItemsPrompt.TcsWebMenuItem_0.TcsWebTab_0.TcsPerformance_9658265.TcsSection_5209705\nvia Pictures (pictures.london)
LOCATION:The Lexi Cinema\, 194B Chamberlayne Road\, Kensal Rise\, NW10 3JU
URL:https://thelexicinema.co.uk/TheLexiCinema.dll/Booking?Booking=TSelectItems.waSelectItemsPrompt.TcsWebMenuItem_0.TcsWebTab_0.TcsPerformance_9658265.TcsSection_5209705
STATUS:CONFIRMED
END:VEVENT
END:VCALENDAR