BEGIN:VCALENDAR
VERSION:2.0
PRODID:-//Pictures London//Cinema Listings//EN
CALSCALE:GREGORIAN
METHOD:PUBLISH
X-WR-CALNAME:Pictures London Cinema
BEGIN:VEVENT
UID:cf30907d-8369-4034-b53e-6f2cbbe0dd5f@pictures.london
DTSTART:20260426T203000Z
DTEND:20260426T222700Z
SUMMARY:300 (2007) at Everyman Hampstead
DESCRIPTION:300 (2007)\nat Everyman Hampstead\nBook: https://purchase.everymancinema.com/launch/ticketing/83b556ec-c4cd-5226-96af-4336b282f3b2\nvia Pictures (pictures.london)
LOCATION:Everyman Hampstead\, 5 Holly Bush Vale\, Hampstead\, NW3 1QE
URL:https://purchase.everymancinema.com/launch/ticketing/83b556ec-c4cd-5226-96af-4336b282f3b2
STATUS:CONFIRMED
END:VEVENT
END:VCALENDAR