BEGIN:VCALENDAR
VERSION:2.0
PRODID:-//Pictures London//Cinema Listings//EN
CALSCALE:GREGORIAN
METHOD:PUBLISH
X-WR-CALNAME:Pictures London Cinema
BEGIN:VEVENT
UID:ce94991a-b7b9-42ea-89e7-b18d5d7c4291@pictures.london
DTSTART:20260421T201500Z
DTEND:20260421T225200Z
SUMMARY:Project Hail Mary (2026) at Peckhamplex
DESCRIPTION:Project Hail Mary (2026)\nat Peckhamplex\nBook: https://ticketing.eu.veezi.com/purchase/79577?siteToken=zkD3Bh7H%2fkuZI9VTgCj%2bgg%3d%3d\nvia Pictures (pictures.london)
LOCATION:Peckhamplex\, 95A Rye Lane\, Peckham\, SE15 4ST
URL:https://ticketing.eu.veezi.com/purchase/79577?siteToken=zkD3Bh7H%2fkuZI9VTgCj%2bgg%3d%3d
STATUS:CONFIRMED
END:VEVENT
END:VCALENDAR