BEGIN:VCALENDAR
VERSION:2.0
PRODID:-//Pictures London//Cinema Listings//EN
CALSCALE:GREGORIAN
METHOD:PUBLISH
X-WR-CALNAME:Pictures London Cinema
BEGIN:VEVENT
UID:ce4f0512-3571-4b38-a44d-4bb0e3e58e11@pictures.london
DTSTART:20260421T174500Z
DTEND:20260421T193000Z
SUMMARY:The Drama (2026) at Electric Cinema White City
DESCRIPTION:The Drama (2026)\nat Electric Cinema White City\nBook: https://www.electriccinema.co.uk/programme/\nvia Pictures (pictures.london)
LOCATION:Electric Cinema White City\, Television Centre\, White City\, W12 7SL
URL:https://www.electriccinema.co.uk/programme/
STATUS:CONFIRMED
END:VEVENT
END:VCALENDAR