BEGIN:VCALENDAR
VERSION:2.0
PRODID:-//Pictures London//Cinema Listings//EN
CALSCALE:GREGORIAN
METHOD:PUBLISH
X-WR-CALNAME:Pictures London Cinema
BEGIN:VEVENT
UID:ce418286-965b-472d-a2a1-9b94fa06f46d@pictures.london
DTSTART:20260421T133000Z
DTEND:20260421T161100Z
SUMMARY:The Secret Agent (2025) at David Lean Cinema
DESCRIPTION:The Secret Agent (2025)\nat David Lean Cinema\nBook: https://www.davidleancinema.uk/#whatson\nvia Pictures (pictures.london)
LOCATION:David Lean Cinema\, The Clocktower\, Croydon Airport\, Croydon\, CR0 0XZ
URL:https://www.davidleancinema.uk/#whatson
STATUS:CONFIRMED
END:VEVENT
END:VCALENDAR