BEGIN:VCALENDAR
VERSION:2.0
PRODID:-//Pictures London//Cinema Listings//EN
CALSCALE:GREGORIAN
METHOD:PUBLISH
X-WR-CALNAME:Pictures London Cinema
BEGIN:VEVENT
UID:ccb06800-a49e-4452-8c1c-94bd1aa26a58@pictures.london
DTSTART:20260501T133000Z
DTEND:20260501T152900Z
SUMMARY:The Devil Wears Prada 2 (2026) at Everyman Crystal Palace
DESCRIPTION:The Devil Wears Prada 2 (2026)\nat Everyman Crystal Palace\nBook: https://purchase.everymancinema.com/launch/ticketing/f97795a5-2f14-5691-83a8-29a7e55229a4\nvia Pictures (pictures.london)
LOCATION:Everyman Crystal Palace\, 25 Church Road\, Crystal Palace\, SE19 2AE
URL:https://purchase.everymancinema.com/launch/ticketing/f97795a5-2f14-5691-83a8-29a7e55229a4
STATUS:CONFIRMED
END:VEVENT
END:VCALENDAR